BEGIN:VCALENDAR
VERSION:2.0
PRODID:-//eventon.com NONSGML v1.0//EN
CALSCALE:GREGORIAN
METHOD:PUBLISH
BEGIN:VEVENT
UID:69e6318818f7d
DTSTAMP:20260420T140040Z
DTSTART:20230503T070000Z
DTEND:20230614T150000Z
LOCATION:MAISON DE L&#039;INDUSTRIE 40 Avenue Maryse Bastié\,  BRUGES
SUMMARY:FORMATION <br> PARCOURS SANTÉ SÉCURITÉ ET ENVIRONNEMENT
DESCRIPTION:Objectifs de la formation : Améliorer sa connaissance des prat
 iques santé sécurité et environnement Mettre en œuvre des procédures a
 daptées Participer à la performance de l’entreprise Être capable de li
 ster les principaux enjeux réglementaires EN SAVOIR PLUS →\nhttps://acd-
 na.fr/events/parcours-sante-securite-et-environnement/
URL:https://acd-na.fr/events/parcours-sante-securite-et-environnement/
END:VEVENT
END:VCALENDAR