BEGIN:VCALENDAR
VERSION:2.0
PRODID:-//eventon.com NONSGML v1.0//EN
CALSCALE:GREGORIAN
METHOD:PUBLISH
BEGIN:VEVENT
UID:69e796aa7b4f1
DTSTAMP:20260421T152426Z
DTSTART:20240118T080000Z
DTEND:20240118T160000Z
LOCATION:Hôtel de Région 14 Rue François de Sourdis\,  33077 Bordeaux
SUMMARY:Vers des produits de santé durables : Enjeux partagés\,  actions combinées !
DESCRIPTION:Ces dernières années\,  la transition environnementale s’in
 vite de plus en plus dans le domaine de la santé. De par leur fort impact 
 sur le bilan carbone de la filière\,  les produits de santé sont en premi
 er lieu concernés. Les établissements de santé se lancent pour certains 
 dans la réalisation d’analyses[..]\nhttps://acd-na.fr/events/vers-des-pr
 oduits-de-sante-durables-enjeux-partages-actions-combinees/
URL:https://acd-na.fr/events/vers-des-produits-de-sante-durables-enjeux-partages-actions-combinees/
END:VEVENT
END:VCALENDAR