BEGIN:VCALENDAR
VERSION:2.0
PRODID:-//eventon.com NONSGML v1.0//EN
CALSCALE:GREGORIAN
METHOD:PUBLISH
BEGIN:VEVENT
UID:69e4c841cf216
DTSTAMP:20260419T121913Z
DTSTART:20250404T090000Z
DTEND:20250404T100000Z
LOCATION:
SUMMARY:Webinaire - L'éco conception dans la filière chimie et matériaux
DESCRIPTION:Webinaire &#8211; L&rsquo;éco conception dans la filière chim
 ie et matériaux &nbsp; Dans un contexte où la durabilité est au cœur d
 es préoccupations\,  l&rsquo;éco-conception s&rsquo;impose comme une solu
 tion clé pour transformer la filière chimie et matériaux vers un avenir 
 plus responsable et innovant. &nbsp; Ce webinaire\,  organisé dans le cadr
 e du programme[..]\nhttps://acd-na.fr/events/webinaire-leco-conception-dans
 -la-filiere-chimie-et-materiaux/
URL:https://acd-na.fr/events/webinaire-leco-conception-dans-la-filiere-chimie-et-materiaux/
END:VEVENT
END:VCALENDAR