BEGIN:VCALENDAR
VERSION:2.0
PRODID:-//eventon.com NONSGML v1.0//EN
CALSCALE:GREGORIAN
METHOD:PUBLISH
BEGIN:VEVENT
UID:69e62fb36471e
DTSTAMP:20260420T135251Z
DTSTART:20251007
DTEND:20251008
LOCATION:Eurexpo Lyon Bd de l'Europe\,  69680 Chassieu
SUMMARY:ACD Nouvelle-Aquitaine sera présent sur POLLUTEC !
DESCRIPTION:ACD Nouvelle-Aquitaine sera présent sur POLLUTEC\,  le salon i
 nternational des équipements\,  des technologies et des services de l’en
 vironnement et de l’énergie. Evénement incontournable pour les acteurs 
 de l&rsquo;environnement et de la transition écologique et énergétique\
 ,  Pollutec réunit pendant 4 jours les professionnels de tous secteurs q
 ui présentent aux industriels\,  collectivités et autres acteurs[..]\nhtt
 ps://acd-na.fr/events/acd-nouvelle-aquitaine-sera-present-sur-pollutec/
URL:https://acd-na.fr/events/acd-nouvelle-aquitaine-sera-present-sur-pollutec/
END:VEVENT
END:VCALENDAR