BEGIN:VCALENDAR
VERSION:2.0
PRODID:-//eventon.com NONSGML v1.0//EN
CALSCALE:GREGORIAN
METHOD:PUBLISH
BEGIN:VEVENT
UID:69e62c9592d8c
DTSTAMP:20260420T133933Z
DTSTART:20251124
DTEND:20251125
LOCATION:
SUMMARY:Semaine de lâ€™innovation Ã  Bordeaux <br> DÃ©couvrez les plateformes techniques des sites universitaires
DESCRIPTION:Industriels et partenaires socio-Ã©conomiques saisissez lâ€™opp
 ortunitÃ© pour dÃ©velopper votre R&amp;D. ExpÃ©rimentez en venant dÃ©couvri
 r des Ã©quipements de pointes Partagez en dialoguant avec des experts scien
 tifiques Explorez en vous offrant de nouvelles pistes de collaboration AprÃ
 ¨s le succÃ¨s des visites en 2024\,  les partenaires des sites universitair
 es bordelais vous proposent une[..]\nhttps://acd-na.fr/events/semainedelinn
 ovationabordeaux/
URL:https://acd-na.fr/events/semainedelinnovationabordeaux/
END:VEVENT
END:VCALENDAR