BEGIN:VCALENDAR
VERSION:2.0
PRODID:-//eventon.com NONSGML v1.0//EN
CALSCALE:GREGORIAN
METHOD:PUBLISH
BEGIN:VEVENT
UID:69ecdb9923791
DTSTAMP:20260425T151953Z
DTSTART:20260422
DTEND:20260423
LOCATION:
SUMMARY:Atelier - Valorisation des mousses Polyuréthanes
DESCRIPTION:Atelier collectif &#8211; Valorisation des mousses Polyurétha
 nes Les mousses polyuréthanes (PU) sont utilisées dans de nombreuses appl
 ications (la construction\,  l&rsquo;ameublement\,  le transport&#8230;)\, 
  toutefois la valorisation des déchets (rebuts comme produits en fin de vi
 e) représente encore un challenge pour de nombreuses entreprises. Cet atel
 ier est co-organisé par ADI et ACD N-A[..]\nhttps://acd-na.fr/events/ateli
 er-valorisation-des-mousses-polyurethanes/
URL:https://acd-na.fr/events/atelier-valorisation-des-mousses-polyurethanes/
END:VEVENT
END:VCALENDAR